BEGIN:VCALENDAR
VERSION:2.0
PRODID:-//wp-events-plugin.com//7.2.3.1//EN
TZID:America/New_York
X-WR-TIMEZONE:America/New_York
BEGIN:VEVENT
UID:890@congregation-beth-israel.org
DTSTART;TZID=America/New_York:20260507T110000
DTEND;TZID=America/New_York:20260507T120000
DTSTAMP:20260316T171825Z
URL:https://www.congregation-beth-israel.org/events/coffee-with-the-cantor
 -2025-03-20-2025-03-27-2025-04-03-2025-04-10-2025-04-17-2025-04-24-2025-05
 -01-2025-05-08-2025-05-15-2025-05-22-2025-05-29-2025-06-05-2025-06-12-2025
 -06-19-2025-11-0-30-2026-05-07/
SUMMARY:Coffee with the Cantor!
DESCRIPTION:* Location is on the weekly e-mail announcements*
ATTACH;FMTTYPE=image/jpeg:https://www.congregation-beth-israel.org/wp-cont
 ent/uploads/2024/05/Coffee-with-Cantor-draft-3.png
CATEGORIES:Events
END:VEVENT
BEGIN:VTIMEZONE
TZID:America/New_York
X-LIC-LOCATION:America/New_York
BEGIN:DAYLIGHT
DTSTART:20260308T030000
TZOFFSETFROM:-0500
TZOFFSETTO:-0400
TZNAME:EDT
END:DAYLIGHT
END:VTIMEZONE
END:VCALENDAR