BEGIN:VCALENDAR
VERSION:2.0
PRODID:-//wp-events-plugin.com//7.2.3.1//EN
TZID:America/New_York
X-WR-TIMEZONE:America/New_York
BEGIN:VEVENT
UID:12@congregation-beth-israel.org
DTSTART;TZID=America/New_York:20240513T130000
DTEND;TZID=America/New_York:20240513T140000
DTSTAMP:20240513T184337Z
URL:https://www.congregation-beth-israel.org/events/lunch-learn-the-way-of
 -solomon-2024-05-13/
SUMMARY:Lunch & Learn - The Way of Solomon
DESCRIPTION:Explore Kohelet-Ecclesiastes guided by Rami Shapiro's The Way 
 of Solomon.\n\nBring a dairy or pareve lunch and join us the second Monday
  of the month.\n\nPlease register below to receive Zoom link.\n\n[gravityf
 orm id="6" title="true" description="true"]
CATEGORIES:Adult Education,Learn
LOCATION:Congregation Beth Israel\, 411 S 8th St\, Lebanon\, PA\, 17042\, U
 nited States
X-APPLE-STRUCTURED-LOCATION;VALUE=URI;X-ADDRESS=411 S 8th St\, Lebanon\, PA
 \, 17042\, United States;X-APPLE-RADIUS=100;X-TITLE=Congregation Beth Isra
 el:geo:0,0
END:VEVENT
BEGIN:VTIMEZONE
TZID:America/New_York
X-LIC-LOCATION:America/New_York
BEGIN:DAYLIGHT
DTSTART:20240310T030000
TZOFFSETFROM:-0500
TZOFFSETTO:-0400
TZNAME:EDT
END:DAYLIGHT
END:VTIMEZONE
END:VCALENDAR