BEGIN:VCALENDAR
VERSION:2.0
PRODID:-//wp-events-plugin.com//7.2.3.1//EN
TZID:America/New_York
X-WR-TIMEZONE:America/New_York
BEGIN:VEVENT
UID:509@congregation-beth-israel.org
DTSTART;TZID=America/New_York;VALUE=DATE:20260531
DTEND;TZID=America/New_York;VALUE=DATE:20260601
DTSTAMP:20260304T145719Z
URL:https://www.congregation-beth-israel.org/events/museum-bus-trip/
SUMMARY:Museum Bus Trip
DESCRIPTION:Our Adult Ed Committee is excited to announce a trip to the Wei
 tzman Museum in Philadelphia for May 31st.\n\nRegistration is limited to 2
 0 persons. Cost will be $40 per person. This payment does not include bus 
 driver gratuity\, or lunch/additional personal expenses.\n\nRegistration d
 eadline May 26th. If interested in registration\, please go to May 26th. R
 eservation is completed by payment only.\n\nFor times\, or more informatio
 n\, please check your e-mail or call the office\n\n&nbsp\;\n\n&nbsp\;
ATTACH;FMTTYPE=image/jpeg:https://www.congregation-beth-israel.org/wp-cont
 ent/uploads/2026/02/Philadelphia-Museum-Trip-3.png
CATEGORIES:Adult Education,Events
LOCATION:Congregation Beth Israel\, 411 S 8th St\, Lebanon\, PA\, 17042\, U
 nited States
X-APPLE-STRUCTURED-LOCATION;VALUE=URI;X-ADDRESS=411 S 8th St\, Lebanon\, PA
 \, 17042\, United States;X-APPLE-RADIUS=100;X-TITLE=Congregation Beth Isra
 el:geo:0,0
END:VEVENT
BEGIN:VTIMEZONE
TZID:America/New_York
X-LIC-LOCATION:America/New_York
BEGIN:DAYLIGHT
DTSTART:20260308T030000
TZOFFSETFROM:-0500
TZOFFSETTO:-0400
TZNAME:EDT
END:DAYLIGHT
END:VTIMEZONE
END:VCALENDAR