BEGIN:VCALENDAR
VERSION:2.0
PRODID:-//wp-events-plugin.com//7.2.3.1//EN
TZID:America/New_York
X-WR-TIMEZONE:America/New_York
BEGIN:VEVENT
UID:1@congregation-beth-israel.org
DTSTART:20240324T004500Z
DTEND:20240324T030000Z
DTSTAMP:20240313T193318Z
URL:https://www.congregation-beth-israel.org/events/purim-megillah-reading
 -and-party/
SUMMARY:Purim Megillah Reading and Party!
DESCRIPTION:[gravityform id="7" title="true" description="true"]
CATEGORIES:Events,Pray
LOCATION:Congregation Beth Israel\, 411 S 8th St\, Lebanon\, PA\, 17042\, U
 nited States
X-APPLE-STRUCTURED-LOCATION;VALUE=URI;X-ADDRESS=411 S 8th St\, Lebanon\, PA
 \, 17042\, United States;X-APPLE-RADIUS=100;X-TITLE=Congregation Beth Isra
 el:geo:0,0
END:VEVENT
END:VCALENDAR