BEGIN:VCALENDAR
VERSION:2.0
PRODID:-//wp-events-plugin.com//7.2.3.1//EN
TZID:America/New_York
X-WR-TIMEZONE:America/New_York
BEGIN:VEVENT
UID:451@congregation-beth-israel.org
DTSTART;TZID=America/New_York;VALUE=DATE:20261107
DTEND;TZID=America/New_York;VALUE=DATE:20261108
DTSTAMP:20260313T025257Z
URL:https://www.congregation-beth-israel.org/events/shabbat-in-60-3-2026-1
 1-07/
SUMMARY:Shabbat in 60
DESCRIPTION:60 minute Shabbat Service - Check in with your mindfulness and 
 gratitude!\n\nFor times\, please check your e-mail 
ATTACH;FMTTYPE=image/jpeg:https://www.congregation-beth-israel.org/wp-cont
 ent/uploads/2025/12/Jewish-Star-for-60-min-Shabbat.jpg
CATEGORIES:Events
LOCATION:Congregation Beth Israel\, 411 S 8th St\, Lebanon\, PA\, 17042\, U
 nited States
X-APPLE-STRUCTURED-LOCATION;VALUE=URI;X-ADDRESS=411 S 8th St\, Lebanon\, PA
 \, 17042\, United States;X-APPLE-RADIUS=100;X-TITLE=Congregation Beth Isra
 el:geo:0,0
END:VEVENT
BEGIN:VTIMEZONE
TZID:America/New_York
X-LIC-LOCATION:America/New_York
BEGIN:STANDARD
DTSTART:20261101T010000
TZOFFSETFROM:-0400
TZOFFSETTO:-0500
TZNAME:EST
END:STANDARD
END:VTIMEZONE
END:VCALENDAR