BEGIN:VCALENDAR
VERSION:2.0
PRODID:-//wp-events-plugin.com//7.2.3.1//EN
TZID:America/New_York
X-WR-TIMEZONE:America/New_York
BEGIN:VEVENT
UID:171@congregation-beth-israel.org
DTSTART;TZID=America/New_York:20240612T090000
DTEND;TZID=America/New_York:20240612T120000
DTSTAMP:20240607T200856Z
URL:https://www.congregation-beth-israel.org/events/shavuot-morning-servic
 es-with-yizkor/
SUMMARY:Shavuot Morning Services with Yizkor
DESCRIPTION:Join us to celebrate Shavuot - the "time of the giving of the T
 orah." Yizkor at approximately 10:30 - please come earlier if you want to 
 be sure not to miss it.\n\nFollowed by Kiddush Lunch.\n\nPlease register h
 ere to receive the Zoom link by email. Links also sent to members in the w
 eekly announcements.\n\n[gravityform id="14" title="true" description="tru
 e"]
CATEGORIES:Pray
LOCATION:Congregation Beth Israel\, 411 S 8th St\, Lebanon\, PA\, 17042\, U
 nited States
X-APPLE-STRUCTURED-LOCATION;VALUE=URI;X-ADDRESS=411 S 8th St\, Lebanon\, PA
 \, 17042\, United States;X-APPLE-RADIUS=100;X-TITLE=Congregation Beth Isra
 el:geo:0,0
END:VEVENT
BEGIN:VTIMEZONE
TZID:America/New_York
X-LIC-LOCATION:America/New_York
BEGIN:DAYLIGHT
DTSTART:20240310T030000
TZOFFSETFROM:-0500
TZOFFSETTO:-0400
TZNAME:EDT
END:DAYLIGHT
END:VTIMEZONE
END:VCALENDAR